BEGIN:VCALENDAR
VERSION:2.0
PRODID:-//Ε.Α.Α.Α. - ECPv6.15.20//NONSGML v1.0//EN
CALSCALE:GREGORIAN
METHOD:PUBLISH
X-WR-CALNAME:Ε.Α.Α.Α.
X-ORIGINAL-URL:https://eaaa.gr
X-WR-CALDESC:Events for Ε.Α.Α.Α.
REFRESH-INTERVAL;VALUE=DURATION:PT1H
X-Robots-Tag:noindex
X-PUBLISHED-TTL:PT1H
BEGIN:VTIMEZONE
TZID:Europe/Helsinki
BEGIN:DAYLIGHT
TZOFFSETFROM:+0200
TZOFFSETTO:+0300
TZNAME:EEST
DTSTART:20190331T010000
END:DAYLIGHT
BEGIN:STANDARD
TZOFFSETFROM:+0300
TZOFFSETTO:+0200
TZNAME:EET
DTSTART:20191027T010000
END:STANDARD
BEGIN:DAYLIGHT
TZOFFSETFROM:+0200
TZOFFSETTO:+0300
TZNAME:EEST
DTSTART:20200329T010000
END:DAYLIGHT
BEGIN:STANDARD
TZOFFSETFROM:+0300
TZOFFSETTO:+0200
TZNAME:EET
DTSTART:20201025T010000
END:STANDARD
BEGIN:DAYLIGHT
TZOFFSETFROM:+0200
TZOFFSETTO:+0300
TZNAME:EEST
DTSTART:20210328T010000
END:DAYLIGHT
BEGIN:STANDARD
TZOFFSETFROM:+0300
TZOFFSETTO:+0200
TZNAME:EET
DTSTART:20211031T010000
END:STANDARD
BEGIN:DAYLIGHT
TZOFFSETFROM:+0200
TZOFFSETTO:+0300
TZNAME:EEST
DTSTART:20220327T010000
END:DAYLIGHT
BEGIN:STANDARD
TZOFFSETFROM:+0300
TZOFFSETTO:+0200
TZNAME:EET
DTSTART:20221030T010000
END:STANDARD
BEGIN:DAYLIGHT
TZOFFSETFROM:+0200
TZOFFSETTO:+0300
TZNAME:EEST
DTSTART:20230326T010000
END:DAYLIGHT
BEGIN:STANDARD
TZOFFSETFROM:+0300
TZOFFSETTO:+0200
TZNAME:EET
DTSTART:20231029T010000
END:STANDARD
END:VTIMEZONE
BEGIN:VEVENT
DTSTART;VALUE=DATE:20200201
DTEND;VALUE=DATE:20200202
DTSTAMP:20260423T213048
CREATED:20200101T233146Z
LAST-MODIFIED:20200102T084355Z
UID:6825-1580515200-1580601599@eaaa.gr
SUMMARY:ΠΑΡΑΡΤΗΜΑ ΛΑΡΙΣΑΣ-Κοπή Πρωτοχρονιάτικης Πίτας 2020
DESCRIPTION:εκδήλωση: Κοπή Πρωτοχρονιάτικης Πίτας 2020 \nδιοργανωτής: ΠΑΡΑΡΤΗΜΑ ΛΑΡΙΣΑΣ της ΕΑΑΑ \nημερομηνία: Σάββατο\, 1/2/2020 \nώρα:  \nτόπος: Κτήμα”ΕΛΕΝΑ”\, 7o χιλ. Λάρισας – Αμπελώνα \nείσοδος: 15€ κατ’ άτομο για τα Μέλη και μέλη οικογενειών και φίλους (μή μέλη) αυτών 
URL:https://eaaa.gr/event/%cf%80%ce%b1%cf%81%ce%b1%cf%81%cf%84%ce%b7%ce%bc%ce%b1-%ce%bb%ce%b1%cf%81%ce%b9%cf%83%ce%b1%cf%83-%ce%ba%ce%bf%cf%80%ce%ae-%cf%80%cf%81%cf%89%cf%84%ce%bf%cf%87%cf%81%ce%bf%ce%bd%ce%b9%ce%ac%cf%84/
ATTACH;FMTTYPE=image/jpeg:https://eaaa.gr/wp-content/uploads/2022/07/default-image.jpg
END:VEVENT
BEGIN:VEVENT
DTSTART;TZID=Europe/Helsinki:20200202T113000
DTEND;TZID=Europe/Helsinki:20200202T130000
DTSTAMP:20260423T213048
CREATED:20200126T191001Z
LAST-MODIFIED:20200126T191001Z
UID:6971-1580643000-1580648400@eaaa.gr
SUMMARY:ΠΑΣΥΒΕΤΑ-Κοπή Πρωτοχρονιάτικης Πίτας
DESCRIPTION:εκδήλωση: Κοπή πρωτοχρονιάτικης πίτας \nδιοργανωτής: ΠΑΣΥΒΕΤΑ \nημερομηνία: Κυριακή\, 2/2/2020 \nώρα: 11:30 \nτόπος: Αίθουσα ΑΕΡΟΔΙΚΕΙΟΥ ΑΘΗΝΩΝ (Σούτσου 40\, 115 21-Αθήνα)
URL:https://eaaa.gr/event/%cf%80%ce%b1%cf%83%cf%85%ce%b2%ce%b5%cf%84%ce%b1-%ce%ba%ce%bf%cf%80%ce%ae-%cf%80%cf%81%cf%89%cf%84%ce%bf%cf%87%cf%81%ce%bf%ce%bd%ce%b9%ce%ac%cf%84%ce%b9%ce%ba%ce%b7%cf%82-%cf%80%ce%af%cf%84%ce%b1/
ATTACH;FMTTYPE=image/jpeg:https://eaaa.gr/wp-content/uploads/2022/07/default-image.jpg
END:VEVENT
BEGIN:VEVENT
DTSTART;TZID=Europe/Helsinki:20200208T203000
DTEND;TZID=Europe/Helsinki:20200208T203000
DTSTAMP:20260423T213048
CREATED:20200109T200456Z
LAST-MODIFIED:20200126T184546Z
UID:6869-1581193800-1581193800@eaaa.gr
SUMMARY:ΠΑΡΑΡΤΗΜΑ ΜΑΓΝΗΣΙΑΣ-Κοπή Πρωτοχρονιάτικης Πίτας
DESCRIPTION:                       \nεκδήλωση: Κοπή πρωτοχρονιάτικης πίτας \nδιοργανωτής: ΠΑΡΑΡΤΗΜΑ ΜΑΓΝΗΣΙΑΣ της ΕΑΑΑ \nημερομηνία: Σάββατο\, 8/2/2020 \nώρα: 20:30 \nτόπος: “Valis Resort Hotel”\, Αγριά Βόλου
URL:https://eaaa.gr/event/%cf%80%ce%b1%cf%81%ce%b1%cf%81%cf%84%ce%b7%ce%bc%ce%b1-%ce%bc%ce%b1%ce%b3%ce%bd%ce%b7%cf%83%ce%b9%ce%b1%cf%83-%ce%ba%ce%bf%cf%80%ce%ae-%cf%80%cf%81%cf%89%cf%84%ce%bf%cf%87%cf%81%ce%bf%ce%bd%ce%b9/
ATTACH;FMTTYPE=image/jpeg:https://eaaa.gr/wp-content/uploads/2013/03/-ΜΑΓΝΗΣΙΑΣ_31-3-2019_Ντούβλης-e1564342630728.jpg
END:VEVENT
BEGIN:VEVENT
DTSTART;TZID=Europe/Helsinki:20200209T000000
DTEND;TZID=Europe/Helsinki:20200209T140000
DTSTAMP:20260423T213048
CREATED:20200126T213547Z
LAST-MODIFIED:20200126T213547Z
UID:6989-1581206400-1581256800@eaaa.gr
SUMMARY:ΠΑΡΑΡΤΗΜΑ ΘΕΣΣΑΛΟΝΙΚΗΣ-Κοπή Πρωτοχρονιάτικης Πίτας τομέα δυτικής Μακεδονίας
DESCRIPTION:εκδήλωση: Κοπή πρωτοχρονιάτικης πίτας τομέα δυτικής Μακεδονίας \nδιοργανωτής: ΠΑΡΑΡΤΗΜΑ ΘΕΣΣΑΛΟΝΙΚΗΣ της ΕΑΑΑ \nημερομηνία: Κυριακή\, 9/2/2020 \nώρα: 12:00 \nτόπος: Λέσχη Αξιωματικών Καστοριάς (Ζωγράφου 24\, 521 00-Καστοριά)
URL:https://eaaa.gr/event/%cf%80%ce%b1%cf%81%ce%b1%cf%81%cf%84%ce%b7%ce%bc%ce%b1-%ce%b8%ce%b5%cf%83%cf%83%ce%b1%ce%bb%ce%bf%ce%bd%ce%b9%ce%ba%ce%b7%cf%83-%ce%ba%ce%bf%cf%80%ce%ae-%cf%80%cf%81%cf%89%cf%84%ce%bf%cf%87%cf%81-2/
ATTACH;FMTTYPE=image/jpeg:https://eaaa.gr/wp-content/uploads/2022/07/default-image.jpg
END:VEVENT
BEGIN:VEVENT
DTSTART;TZID=Europe/Helsinki:20200219T180000
DTEND;TZID=Europe/Helsinki:20200219T200000
DTSTAMP:20260423T213048
CREATED:20191207T104350Z
LAST-MODIFIED:20200126T190345Z
UID:6606-1582135200-1582142400@eaaa.gr
SUMMARY:ΣΥΛΛΟΓΟΣ ΑΠΟΦΟΙΤΩΝ ΣΧΟΛΗΣ ΥΠΑΞΙΩΜΑΤΙΚΩΝ ΔΙΟΙΚΗΤΙΚΩΝ ΑΕΡΟΠΟΡΙΑΣ (ΣΑΣΥΔΑ)-Κοπή Πρωτοχρονιάτικης Πίτας & Γ.Σ. 2020
DESCRIPTION:εκδήλωση: Κοπή Πρωτοχρονιάτικης Πίτας και ετήσια Γενική Συνέλευση 2020 \nδιοργανωτής: ΣΥΛΛΟΓΟΣ ΑΠΟΦΟΙΤΩΝ ΣΧΟΛΗΣ ΥΠΑΞΙΩΜΑΤΙΚΩΝ ΔΙΟΙΚΗΤΙΚΩΝ ΑΕΡΟΠΟΡΙΑΣ (ΣΑΣΥΔΑ) \nημερομηνία: Τετάρτη\, 19/2/2020 \nώρα: 18:00 \nτόπος: “Αίθουσα Εκδηλώσεων” Πνευματικού Κέντρου ΕΑΑΑ\, Χαλκοκονδύλη 5 (7ος όροφος)
URL:https://eaaa.gr/event/%ce%ba%ce%bf%cf%80%ce%ae-%cf%80%cf%81%cf%89%cf%84%ce%bf%cf%87%cf%81%ce%bf%ce%bd%ce%b9%ce%ac%cf%84%ce%b9%ce%ba%ce%b7%cf%82-%cf%80%ce%af%cf%84%ce%b1%cf%82-%ce%b3-%cf%83-2020-%cf%84%ce%bf%cf%85-%cf%83-2/
ATTACH;FMTTYPE=image/jpeg:https://eaaa.gr/wp-content/uploads/2022/07/default-image.jpg
END:VEVENT
BEGIN:VEVENT
DTSTART;TZID=Europe/Helsinki:20200305T073000
DTEND;TZID=Europe/Helsinki:20200306T153000
DTSTAMP:20260423T213048
CREATED:20200126T201906Z
LAST-MODIFIED:20200126T201906Z
UID:6980-1583393400-1583508600@eaaa.gr
SUMMARY:29ο Πολυθεματικό Ιατρικό Συμπόσιο στο 251ΓΝΑ
DESCRIPTION:εκδήλωση: 29ο Πολυθεματικό Ιατρικό Συμπόσιο “Ασκληπιός VS Άρης” \nδιοργανωτής: 251 ΓΕΝΙΚΟ ΝΟΣΟΚΟΜΕΙΟ ΑΕΡΟΠΟΡΙΑΣ \nημερομηνία: Πέμπτη 5 – Παρασκευή 6/3/2020 \nώρα: Πέμπτη 07:30-14:30\, Παρασκευή 07:30-15:30 \nτόπος: Αμφιθέατρο 251 ΓΝΑ \nπληροφορίες: Το Συμπόσιο τελεί υπό την αιγίδα του μεταπτυχιακού «Παγκόσμια Ιατρική-Ιατρική των Καταστροφών» της Ιατρικής Σχολής του Εθνικού Καποδιστριακού Πανεπιστημίου Αθηνών και αναπτύσσεται σε δυο παράλληλους άξονες. Ο πρώτος είναι θεωρητικός και περιλαμβάνει θέματα που αφορούν στον τρόπο δράσης του Υγειονομικού σε επιχειρησιακό περιβάλλον στον πόλεμο και στην ειρήνη\, καθώς και θέματα Αεροπορικής Ιατρικής . Ο δεύτερος είναι πρακτικός με εργαστήρια εξάσκησης (workshops) σε ιατρικές πράξεις και επίδειξης οργάνων και συσκευών. \nΟμιλητές\, συντονιστές και εκπαιδευτές θα είναι στελέχη των Ενόπλων Δυνάμεων και των Σωμάτων Ασφαλείας\, καθώς και διακεκριμένοι επιστήμονες και επαγγελματίες Υγείας. \nΠερισσότερες πληροφορίες για το Συμπόσιο μπορείτε να βρείτε εδώ \nΕπιθυμία συμμετοχής μπορείτε να υποβάλετε στην ηλεκτρονική φόρμα εγγραφής
URL:https://eaaa.gr/event/29%ce%bf-%cf%80%ce%bf%ce%bb%cf%85%ce%b8%ce%b5%ce%bc%ce%b1%cf%84%ce%b9%ce%ba%cf%8c-%ce%b9%ce%b1%cf%84%cf%81%ce%b9%ce%ba%cf%8c-%cf%83%cf%85%ce%bc%cf%80%cf%8c%cf%83%ce%b9%ce%bf-%cf%83%cf%84%ce%bf-251/
ATTACH;FMTTYPE=image/jpeg:https://eaaa.gr/wp-content/uploads/2022/07/default-image.jpg
END:VEVENT
BEGIN:VEVENT
DTSTART;TZID=Europe/Helsinki:20200620T093000
DTEND;TZID=Europe/Helsinki:20200620T130000
DTSTAMP:20260423T213048
CREATED:20200405T075029Z
LAST-MODIFIED:20200405T075434Z
UID:7533-1592645400-1592658000@eaaa.gr
SUMMARY:ΣΑΣΙ-Γ.Σ. & Αρχαιρεσίες
DESCRIPTION:  \n  \n  \n  \n  \n  \nεκδήλωση: Γενική Συνέλευση  και Αρχαιρεσίες \nδιοργανωτής: ΣΥΛΛΟΓΟΣ ΑΠΟΦΟΙΤΩΝ ΣΧΟΛΗΣ ΙΚΑΡΩΝ “Ο ΙΚΑΡΟΣ” \nημερομηνία: Σάββατο\, 20/6/2020 \nώρα: 09:30 – 13:00 \nτόπος: Α/Β Δεκέλειας \nλεπτομέρειες εδώ
URL:https://eaaa.gr/event/%cf%83%ce%b1%cf%83%ce%b9-%ce%b3-%cf%83-%ce%b1%cf%81%cf%87%ce%b1%ce%b9%cf%81%ce%b5%cf%83%ce%af%ce%b5%cf%82/
ATTACH;FMTTYPE=image/jpeg:https://eaaa.gr/wp-content/uploads/2022/07/default-image.jpg
END:VEVENT
BEGIN:VEVENT
DTSTART;TZID=Europe/Helsinki:20221019T180000
DTEND;TZID=Europe/Helsinki:20221019T200000
DTSTAMP:20260423T213048
CREATED:20221014T160915Z
LAST-MODIFIED:20221014T160915Z
UID:14600-1666202400-1666209600@eaaa.gr
SUMMARY:ΕΑΑΑ/Παρ. Θεσσαλονίκης _ Διάλεξη
DESCRIPTION:
URL:https://eaaa.gr/event/%ce%b5%ce%b1%ce%b1%ce%b1-%cf%80%ce%b1%cf%81-%ce%b8%ce%b5%cf%83%cf%83%ce%b1%ce%bb%ce%bf%ce%bd%ce%af%ce%ba%ce%b7%cf%82-_-%ce%b4%ce%b9%ce%ac%ce%bb%ce%b5%ce%be%ce%b7/
ATTACH;FMTTYPE=image/jpeg:https://eaaa.gr/wp-content/uploads/2022/10/καρακωστ-2-1.jpg
END:VEVENT
BEGIN:VEVENT
DTSTART;TZID=Europe/Helsinki:20221023T093000
DTEND;TZID=Europe/Helsinki:20221023T133000
DTSTAMP:20260423T213048
CREATED:20221014T160256Z
LAST-MODIFIED:20221014T160512Z
UID:14591-1666517400-1666531800@eaaa.gr
SUMMARY:ΕΑΑΑ/Παρ. Θεσσαλονίκης-Ετήσια Επιμνημόσυνη Δέηση
DESCRIPTION:
URL:https://eaaa.gr/event/%ce%b5%ce%b1%ce%b1%ce%b1-%cf%80%ce%b1%cf%81-%ce%b8%ce%b5%cf%83%cf%83%ce%b1%ce%bb%ce%bf%ce%bd%ce%af%ce%ba%ce%b7%cf%82-%ce%b5%cf%84%ce%ae%cf%83%ce%b9%ce%b1-%ce%b5%cf%80%ce%b9%ce%bc%ce%bd%ce%b7%ce%bc/
ATTACH;FMTTYPE=image/jpeg:https://eaaa.gr/wp-content/uploads/2022/10/nikosproskl-4.jpg
END:VEVENT
BEGIN:VEVENT
DTSTART;TZID=Europe/Helsinki:20221023T100000
DTEND;TZID=Europe/Helsinki:20221023T140000
DTSTAMP:20260423T213048
CREATED:20221007T123312Z
LAST-MODIFIED:20221007T123506Z
UID:14428-1666519200-1666533600@eaaa.gr
SUMMARY:Ο.Σ.ΜΟ.Σ.Α – Ενημερωτική Ημερίδα
DESCRIPTION:
URL:https://eaaa.gr/event/14428/
LOCATION:ΠΟΛΕΜΙΚΟ ΜΟΥΣΕΙΟ\, Βασ. Σοφίας & Ριζάρη 2\, Αθήνα\, 106 75\, Ελλάδα
ATTACH;FMTTYPE=image/png:https://eaaa.gr/wp-content/uploads/2022/10/Ανακοίνωση.png
END:VEVENT
BEGIN:VEVENT
DTSTART;TZID=Europe/Helsinki:20221023T113000
DTEND;TZID=Europe/Helsinki:20221023T123000
DTSTAMP:20260423T213048
CREATED:20221013T134803Z
LAST-MODIFIED:20221013T134956Z
UID:14540-1666524600-1666528200@eaaa.gr
SUMMARY:Επιμνημόσυνη Δέηση Υπέρ Πεσόντων Αεροπόρων από την ΕΑΑΑ - 23 Οκτωβρίου 2022 και ώρα 11:30
DESCRIPTION:ΑΝΑΚΟΙΝΩΣΗ- ΠΡΟΣΚΛΗΣΗ \nΗ Ένωση Αποστράτων Αξιωματικών Αεροπορίας (Ε.Α.Α.Α.) διοργανώνει Επιμνημόσυνη Δέηση των Πεσόντων Αεροπόρων για την Πατρίδα\, την Κυριακή 23 Οκτωβρίου 2022 και ώρα 11:30 π.μ. στην Πλατεία Καραϊσκάκη\, έμπροσθεν του οικείου μνημείου των Πεσόντων Αεροπόρων. \nΗ παρουσία σας\, θα μας τιμήσει ιδιαίτερα. \nΜετά το πέρας της τελετής θα παρατεθεί καφές – αναψυκτικά στο Ξενοδοχείο “STANLEY” (α’ όροφος). \nΠΡΟΓΡΑΜΜΑ ΤΕΛΕΤΗΣ \n11:15           Πέρας Προσελεύσεως Προσκεκλημένων \n11:25          Άφιξη Τιμωμένου Προσώπου \n11:30           Έναρξη Τελετής \n11:35           Χαιρετισμός Προέδρου Ε.Α.Α.Α. \n11:40           Επιμνημόσυνη Δέηση \n11:55           Κατάθεση Στεφάνων \n12:20           Ανάκρουση Εθνικού Ύμνου\, από Μπάντα Δήμου Αθηναίων \n12:25           Πέρας Τελετής \n12:30           Παράθεση καφέ στο παρακείμενο ξενοδοχείο “STANLEY” \n                                                              Το Δ.Σ./ Ε.Α.Α.Α.
URL:https://eaaa.gr/event/14540/
LOCATION:Πλατεία Καραϊσκάκη\, Αθήνα\, Πλατεία Καραϊσκάκη\, Αθήνα\, Αττικής\, Ελλάδα
ATTACH;FMTTYPE=image/jpeg:https://eaaa.gr/wp-content/uploads/2022/07/default-image.jpg
END:VEVENT
END:VCALENDAR