BEGIN:VCALENDAR
VERSION:2.0
PRODID:-//Ε.Α.Α.Α. - ECPv6.15.20//NONSGML v1.0//EN
CALSCALE:GREGORIAN
METHOD:PUBLISH
X-ORIGINAL-URL:https://eaaa.gr
X-WR-CALDESC:Events for Ε.Α.Α.Α.
REFRESH-INTERVAL;VALUE=DURATION:PT1H
X-Robots-Tag:noindex
X-PUBLISHED-TTL:PT1H
BEGIN:VTIMEZONE
TZID:Europe/Helsinki
BEGIN:DAYLIGHT
TZOFFSETFROM:+0200
TZOFFSETTO:+0300
TZNAME:EEST
DTSTART:20180325T010000
END:DAYLIGHT
BEGIN:STANDARD
TZOFFSETFROM:+0300
TZOFFSETTO:+0200
TZNAME:EET
DTSTART:20181028T010000
END:STANDARD
BEGIN:DAYLIGHT
TZOFFSETFROM:+0200
TZOFFSETTO:+0300
TZNAME:EEST
DTSTART:20190331T010000
END:DAYLIGHT
BEGIN:STANDARD
TZOFFSETFROM:+0300
TZOFFSETTO:+0200
TZNAME:EET
DTSTART:20191027T010000
END:STANDARD
BEGIN:DAYLIGHT
TZOFFSETFROM:+0200
TZOFFSETTO:+0300
TZNAME:EEST
DTSTART:20200329T010000
END:DAYLIGHT
BEGIN:STANDARD
TZOFFSETFROM:+0300
TZOFFSETTO:+0200
TZNAME:EET
DTSTART:20201025T010000
END:STANDARD
BEGIN:DAYLIGHT
TZOFFSETFROM:+0200
TZOFFSETTO:+0300
TZNAME:EEST
DTSTART:20210328T010000
END:DAYLIGHT
BEGIN:STANDARD
TZOFFSETFROM:+0300
TZOFFSETTO:+0200
TZNAME:EET
DTSTART:20211031T010000
END:STANDARD
BEGIN:DAYLIGHT
TZOFFSETFROM:+0200
TZOFFSETTO:+0300
TZNAME:EEST
DTSTART:20220327T010000
END:DAYLIGHT
BEGIN:STANDARD
TZOFFSETFROM:+0300
TZOFFSETTO:+0200
TZNAME:EET
DTSTART:20221030T010000
END:STANDARD
BEGIN:DAYLIGHT
TZOFFSETFROM:+0200
TZOFFSETTO:+0300
TZNAME:EEST
DTSTART:20230326T010000
END:DAYLIGHT
BEGIN:STANDARD
TZOFFSETFROM:+0300
TZOFFSETTO:+0200
TZNAME:EET
DTSTART:20231029T010000
END:STANDARD
END:VTIMEZONE
BEGIN:VEVENT
DTSTART;TZID=Europe/Helsinki:20191115T190000
DTEND;TZID=Europe/Helsinki:20191115T210000
DTSTAMP:20260423T183207
CREATED:20191208T131941Z
LAST-MODIFIED:20191208T183939Z
UID:6649-1573844400-1573851600@eaaa.gr
SUMMARY:Αναγόρευση Πατριάρχη Αλεξανδρείας σε Επίτιμο Δημότη Παπάγου-Χολαργού
DESCRIPTION:εκδήλωση: Αναγόρευση Πατριάρχη Αλεξανδρείας & Πάσης Αφρικής κ.κ. Θεόδωρου Β’ σε Επίτιμο Δημότη Παπάγου-Χολαργού \nδιοργανωτής: ΔΗΜΟΣ ΠΑΠΑΓΟΥ-ΧΟΛΑΡΓΟΥ \nημερομηνία: Παρασκευή\, 15/11/2019 \nώρα: 19:00 \nτόπος: ΔΗΜΑΡΧΕΙΟ ΠΑΠΑΓΟΥ-ΧΟΛΑΡΓΟΥ \nσυμμετέχοντες από την ΕΑΑΑ: Πρόεδρος \n. \nΔιαβάστε περισσότερα εδώ
URL:https://eaaa.gr/event/%ce%b1%ce%bd%ce%b1%ce%b3%cf%8c%cf%81%ce%b5%cf%85%cf%83%ce%b7-%cf%80%ce%b1%cf%84%cf%81%ce%b9%ce%ac%cf%81%cf%87%ce%b7-%ce%b1%ce%bb%ce%b5%ce%be%ce%b1%ce%bd%ce%b4%cf%81%ce%b5%ce%af%ce%b1%cf%82-%cf%83/
ATTACH;FMTTYPE=image/jpeg:https://eaaa.gr/wp-content/uploads/2022/07/default-image.jpg
END:VEVENT
BEGIN:VEVENT
DTSTART;TZID=Europe/Helsinki:20191118T103000
DTEND;TZID=Europe/Helsinki:20191118T114500
DTSTAMP:20260423T183207
CREATED:20191207T111933Z
LAST-MODIFIED:20191208T183702Z
UID:6610-1574073000-1574077500@eaaa.gr
SUMMARY:Ενημέρωση Μελών ΕΑΑΑ από τον εργατολόγο κ. Αλέξη Μητρόπουλο
DESCRIPTION:εκδήλωση: Ενημέρωση Μελών ΕΑΑΑ από τον εργατολόγο κ. Αλέξη Μητρόπουλο για όλα τα τρέχοντα συνταξιοδοτικά και ασφαλιστικά θέματα που αφορούν τους αποστράτους \nδιοργανωτής: ΕΝΩΣΗ ΑΠΟΣΤΡΑΤΩΝ ΑΞΙΩΜΑΤΙΚΩΝ ΑΕΡΟΠΟΡΙΑΣ \nημερομηνία: Δευτέρα\, 18/11/2019 \nώρα: 10:30 \nτόπος: «Αίθουσα Εκδηλώσεων» Πνευματικού Κέντρου ΕΑΑΑ\, Χαλκοκονδύλη 5 (7ος όροφος) \n. \nΔείτε περισσότερα εδώ \n.
URL:https://eaaa.gr/event/%ce%b5%ce%bd%ce%b7%ce%bc%ce%ad%cf%81%cf%89%cf%83%ce%b7-%ce%bc%ce%b5%ce%bb%cf%8e%ce%bd-%ce%b5%ce%b1%ce%b1%ce%b1-%ce%b1%cf%80%cf%8c-%cf%84%ce%bf%ce%bd-%ce%b5%cf%81%ce%b3%ce%b1%cf%84%ce%bf%ce%bb%cf%8c/
ATTACH;FMTTYPE=image/jpeg:https://eaaa.gr/wp-content/uploads/2022/07/default-image.jpg
END:VEVENT
BEGIN:VEVENT
DTSTART;TZID=Europe/Helsinki:20191121T103000
DTEND;TZID=Europe/Helsinki:20191121T130000
DTSTAMP:20260423T183207
CREATED:20191208T173225Z
LAST-MODIFIED:20191208T183618Z
UID:6671-1574332200-1574341200@eaaa.gr
SUMMARY:Εορτασμός Ημέρας των Ενόπλων Δυνάμεων
DESCRIPTION:εκδήλωση: Εορτασμός της “Ημέρας των Ενόπλων Δυνάμεων” \nδιοργανωτής: ΠΕΡΙΦΕΡΕΙΑ ΑΤΤΙΚΗΣ \nημερομηνία: Πέμπτη\, 21/11/2019 \nώρα: 10:30 \nτόπος: Καθεδρικός Ιερός Ναός Αθηνών (δοξολογία) – Μνημείο Άγνωστου Στρατιώτη (κατάθεση στεφάνου) από την Α.Ε. ΠτΔ \nσυμμετέχοντες από την ΕΑΑΑ: Αντιπρόεδρος\, Υπεύθυνος Δημοσίων Σχέσεων \n. \nΔιαβάστε περισσότερα εδώ 
URL:https://eaaa.gr/event/%ce%b5%ce%bf%cf%81%cf%84%ce%b1%cf%83%ce%bc%cf%8c%cf%82-%ce%b7%ce%bc%ce%ad%cf%81%ce%b1%cf%82-%cf%84%cf%89%ce%bd-%ce%b5%ce%bd%cf%8c%cf%80%ce%bb%cf%89%ce%bd-%ce%b4%cf%85%ce%bd%ce%ac%ce%bc%ce%b5%cf%89/
ATTACH;FMTTYPE=image/jpeg:https://eaaa.gr/wp-content/uploads/2022/07/default-image.jpg
END:VEVENT
BEGIN:VEVENT
DTSTART;TZID=Europe/Helsinki:20191124T113000
DTEND;TZID=Europe/Helsinki:20191124T113000
DTSTAMP:20260423T183207
CREATED:20191208T190511Z
LAST-MODIFIED:20191208T190704Z
UID:6700-1574595000-1574595000@eaaa.gr
SUMMARY:Εορτασμός επετείου Εθνικής Αντίστασης 1941-1944
DESCRIPTION:εκδήλωση: Εορτασμός της επετείου “Εθνικής Αντίστασης 1941-1944” \nδιοργανωτής: ΠΕΡΙΦΕΡΕΙΑ ΑΤΤΙΚΗΣ \nημερομηνία: Κυριακή\, 24/11/2019 \nώρα: 11:30 \nτόπος: Καθεδρικός Ιερός Ναός Αθηνών (δοξολογία) – Μνημείο Άγνωστου Στρατιώτη (κατάθεση στεφάνων) \nσυμμετέχοντες από την ΕΑΑΑ: Αντιπρόεδρος\, Υπεύθυνος Δημοσίων Σχέσεων
URL:https://eaaa.gr/event/%ce%b5%ce%bf%cf%81%cf%84%ce%b1%cf%83%ce%bc%cf%8c%cf%82-%ce%b5%cf%80%ce%b5%cf%84%ce%b5%ce%af%ce%bf%cf%85-%ce%b5%ce%b8%ce%bd%ce%b9%ce%ba%ce%ae%cf%82-%ce%b1%ce%bd%cf%84%ce%af%cf%83%cf%84%ce%b1%cf%83/
ATTACH;FMTTYPE=image/jpeg:https://eaaa.gr/wp-content/uploads/2022/07/default-image.jpg
END:VEVENT
BEGIN:VEVENT
DTSTART;TZID=Europe/Helsinki:20191124T113000
DTEND;TZID=Europe/Helsinki:20191124T133000
DTSTAMP:20260423T183207
CREATED:20191209T171955Z
LAST-MODIFIED:20191209T172112Z
UID:6717-1574595000-1574602200@eaaa.gr
SUMMARY:Επιμνημόσυνη Δέηση για τα Πεσόντα – Εκλιπόντα Στελέχη του Στρατού Ξηράς
DESCRIPTION:εκδήλωση: Επιμνημόσυνη Δέηση για τα Πεσόντα – Εκλιπόντα Στελέχη του Στρατού Ξηράς \nδιοργανωτής: ΕΝΩΣΗ ΑΠΟΣΤΡΑΤΩΝ ΑΞΙΩΜΑΤΙΚΩΝ ΣΤΡΑΤΟΥ \nημερομηνία: Κυριακή\, 24/11/2019 \nώρα: 11:30 \nτόπος: Καθεδρικός Ιερός Ναός Αθηνών (δοξολογία) – Μνημείο Άγνωστου Στρατιώτη (κατάθεση στεφάνων) \nσυμμετέχοντες από την ΕΑΑΑ: Αναπλ. Δνων Σύμβουλος Σμχος ε.α. Δημήτριος Κοντοβάς\, Μέλος Δ.Σ. Σμχος ε.α. Ηλίας Σβάρνας
URL:https://eaaa.gr/event/%ce%b5%cf%80%ce%b9%ce%bc%ce%bd%ce%b7%ce%bc%cf%8c%cf%83%cf%85%ce%bd%ce%b7-%ce%b4%ce%ad%ce%b7%cf%83%ce%b7-%ce%b3%ce%b9%ce%b1-%cf%84%ce%b1-%cf%80%ce%b5%cf%83%cf%8c%ce%bd%cf%84%ce%b1-%ce%b5/
ATTACH;FMTTYPE=image/jpeg:https://eaaa.gr/wp-content/uploads/2022/07/default-image.jpg
END:VEVENT
BEGIN:VEVENT
DTSTART;TZID=Europe/Helsinki:20191127T183000
DTEND;TZID=Europe/Helsinki:20191127T203000
DTSTAMP:20260423T183207
CREATED:20191207T110927Z
LAST-MODIFIED:20191207T111031Z
UID:6609-1574879400-1574886600@eaaa.gr
SUMMARY:Ενημέρωση Αποστράτων από τον Πρόεδρο της «ΔΕΕΑ & ΕΥ» της ΒτΕ
DESCRIPTION:εκδήλωση: Ενημέρωση Αποστράτων από τον Πρόεδρο της « \nδιοργανωτής: Πρόεδρος Διαρκούς Επιτροπής Εθνικής Άμυνας και Εξωτερικών Υποθέσεων της ΒτΕ\, Βουλευτής ΝΔ Θεσσαλονίκης κ. Κων/νος Γκιουλέκας \nημερομηνία: Δευτέρα\, 4/11/2019 \nώρα: 18:00 \nτόπος: ΥΠΕΘΑ/ΓΡΑΦΕΙΟ κ.ΥΠΟΥΡΓΟΥ \n. \nδιαβάστε περισσότερα εδώ \n.
URL:https://eaaa.gr/event/%ce%b5%ce%bd%ce%b7%ce%bc%ce%ad%cf%81%cf%89%cf%83%ce%b7-%ce%b1%cf%80%ce%bf%cf%83%cf%84%cf%81%ce%ac%cf%84%cf%89%ce%bd-%ce%b1%cf%80%cf%8c-%cf%84%ce%bf%ce%bd-%cf%80%cf%81%cf%8c%ce%b5%ce%b4%cf%81%ce%bf/
ATTACH;FMTTYPE=image/jpeg:https://eaaa.gr/wp-content/uploads/2022/07/default-image.jpg
END:VEVENT
BEGIN:VEVENT
DTSTART;TZID=Europe/Helsinki:20191128T083000
DTEND;TZID=Europe/Helsinki:20191128T173000
DTSTAMP:20260423T183207
CREATED:20191208T124616Z
LAST-MODIFIED:20191208T124616Z
UID:6648-1574929800-1574962200@eaaa.gr
SUMMARY:"1ο Αεροπορικό Συνέδριο" του ΣΑΣΙ
DESCRIPTION:εκδήλωση: “1ο Αεροπορικό Συνέδριο” \nδιοργανωτής: ΣΥΝΔΕΣΜΟΣ ΑΠΟΦΟΙΤΩΝ ΣΧΟΛΗΣ ΙΚΑΡΩΝ” \nημερομηνία: Πέμπτη\, 28/11/2019 \nώρα: 18:30 – 17:30 \nτόπος: ΛΑΕΔ \nσυμμετέχοντες από την ΕΑΑΑ: Αντιπρόεδρος\, Υπεύθυνος Δημοσίων Σχέσεων
URL:https://eaaa.gr/event/1%ce%bf-%ce%b1%ce%b5%cf%81%ce%bf%cf%80%ce%bf%cf%81%ce%b9%ce%ba%cf%8c-%cf%83%cf%85%ce%bd%ce%ad%ce%b4%cf%81%ce%b9%ce%bf-%cf%84%ce%bf%cf%85-%cf%83%ce%b1%cf%83%ce%b9/
ATTACH;FMTTYPE=image/jpeg:https://eaaa.gr/wp-content/uploads/2022/07/default-image.jpg
END:VEVENT
BEGIN:VEVENT
DTSTART;TZID=Europe/Helsinki:20191211T100000
DTEND;TZID=Europe/Helsinki:20191211T140000
DTSTAMP:20260423T183207
CREATED:20191207T100731Z
LAST-MODIFIED:20191207T100815Z
UID:6603-1576058400-1576072800@eaaa.gr
SUMMARY:Διημερίδα ΝΠΔΔ εποπτευόμενων από το ΥΠΕΘΑ
DESCRIPTION:εκδήλωση: Διημερίδα ΝΠΔΔ εποπτευόμενων από το ΥΠΕΘΑ \nδιοργανωτής: ΥΠΟΥΡΓΕΙΟ ΕΘΝΙΚΗΣ ΑΜΥΝΑΣ \nημερομηνία: Τετάρτη\, 11/12/2019 \nώρα: 10:00 \nτόπος: ΥΠΕΘΑ\, αίθουσα “ΙΩΑΝΝΗΣ ΚΑΠΟΔΙΣΤΡΙΑΣ” \nσυμμετέχοντες από την ΕΑΑΑ: Πρόεδρος\, Αντιπρόεδρος\, Δνων Σύμβουλος
URL:https://eaaa.gr/event/%ce%b4%ce%b9%ce%b7%ce%bc%ce%b5%cf%81%ce%af%ce%b4%ce%b1-%ce%bd%cf%80%ce%b4%ce%b4-%ce%b5%cf%80%ce%bf%cf%80%cf%84%ce%b5%cf%85%cf%8c%ce%bc%ce%b5%ce%bd%cf%89%ce%bd-%ce%b1%cf%80%cf%8c-%cf%84%ce%bf-%cf%85/
ATTACH;FMTTYPE=image/jpeg:https://eaaa.gr/wp-content/uploads/2022/07/default-image.jpg
END:VEVENT
BEGIN:VEVENT
DTSTART;TZID=Europe/Helsinki:20191213T110000
DTEND;TZID=Europe/Helsinki:20191213T130000
DTSTAMP:20260423T183207
CREATED:20191208T084045Z
LAST-MODIFIED:20191210T202200Z
UID:6645-1576234800-1576242000@eaaa.gr
SUMMARY:ΠΑΡΑΡΤΗΜΑ ΘΕΣΣΑΛΟΝΙΚΗΣ-τελετή απονομής παρασήμων\,  μεταλλίων και διπλωμάτων Αξκούς ε.α.
DESCRIPTION:εκδήλωση: Τελετή απονομής παρασήμων\,  μεταλλίων και διπλωμάτων  σε 38  συναδέλφους Αξκούς ε.α. \nδιοργανωτής: ΠΑΡΑΡΤΗΜΑ ΘΕΣΣΑΛΟΝΙΚΗΣ της ΕΑΑΑ \nημερομηνία: Παρασκευή\, 13/12/2019 \nώρα: 11:00 \nτόπος: Αίθουσα εκδηλώσεων του Παραρτήματος (Γ.Θεοχάρη 2 & Τσιμισκή)
URL:https://eaaa.gr/event/%cf%80%ce%b1%cf%81%ce%b1%cf%81%cf%84%ce%b7%ce%bc%ce%b1-%ce%b8%ce%b5%cf%83%cf%83%ce%b1%ce%bb%ce%bf%ce%bd%ce%b9%ce%ba%ce%b7%cf%83-%cf%84%ce%b5%ce%bb%ce%b5%cf%84%ce%ae-%ce%b1%cf%80%ce%bf%ce%bd%ce%bf/
ATTACH;FMTTYPE=image/jpeg:https://eaaa.gr/wp-content/uploads/2022/07/default-image.jpg
END:VEVENT
BEGIN:VEVENT
DTSTART;TZID=Europe/Helsinki:20191215T110000
DTEND;TZID=Europe/Helsinki:20191215T130000
DTSTAMP:20260423T183207
CREATED:20191208T204042Z
LAST-MODIFIED:20191208T204042Z
UID:6716-1576407600-1576414800@eaaa.gr
SUMMARY:Βράβευση Αριστούχων Μαθητών σχολικού έτους 2018-19
DESCRIPTION:εκδήλωση: Βράβευση Αριστούχων Μαθητών σχολικού έτους 2018-19 \nδιοργανωτής: ΕΝΩΣΗ ΑΠΟΣΤΡΑΤΩΝ ΑΞΙΩΜΑΤΙΚΩΝ ΑΕΡΟΠΟΡΙΑΣ \nημερομηνία: Κυριακή\, 24/11/2019 \nώρα: 11:00 \nτόπος: “Αίθουσα Εκδηλώσεων” Πνευματικού Κέντρου ΕΑΑΑ (Χαλκοκονδύλη 5 – 7ος όροφος) \nΌπως κάθε χρόνο\, έχει προσκληθεί ο κ. Α/ΓΕΑ να απονείμει τα Βραβεία  \n. \nδιαβάστε περισσότερα εδώ
URL:https://eaaa.gr/event/%ce%b2%cf%81%ce%ac%ce%b2%ce%b5%cf%85%cf%83%ce%b7-%ce%b1%cf%81%ce%b9%cf%83%cf%84%ce%bf%cf%8d%cf%87%cf%89%ce%bd-%ce%bc%ce%b1%ce%b8%ce%b7%cf%84%cf%8e%ce%bd-%cf%83%cf%87%ce%bf%ce%bb%ce%b9%ce%ba%ce%bf/
ATTACH;FMTTYPE=image/jpeg:https://eaaa.gr/wp-content/uploads/2022/07/default-image.jpg
END:VEVENT
BEGIN:VEVENT
DTSTART;TZID=Europe/Helsinki:20191216T100000
DTEND;TZID=Europe/Helsinki:20191216T110000
DTSTAMP:20260423T183207
CREATED:20191210T202021Z
LAST-MODIFIED:20191210T202248Z
UID:6727-1576490400-1576494000@eaaa.gr
SUMMARY:ΠΑΡΑΡΤΗΜΑ ΘΕΣΣΑΛΟΝΙΚΗΣ-Αγιασμός
DESCRIPTION:εκδήλωση: Ακολουθία Αγιασμού \nδιοργανωτής: ΠΑΡΑΡΤΗΜΑ ΘΕΣΣΑΛΟΝΙΚΗΣ της ΕΑΑΑ \nημερομηνία: Δευτέρα\, 16/12/2019 \nώρα: 10:00 \nτόπος: Γραφεία Παραρτήματος (Γ. Θεοχάρη 2 & Τσιμισκή)
URL:https://eaaa.gr/event/%cf%80%ce%b1%cf%81%ce%b1%cf%81%cf%84%ce%b7%ce%bc%ce%b1-%ce%b8%ce%b5%cf%83%cf%83%ce%b1%ce%bb%ce%bf%ce%bd%ce%b9%ce%ba%ce%b7%cf%83-%ce%b1%ce%b3%ce%b9%ce%b1%cf%83%ce%bc%cf%8c%cf%82/
ATTACH;FMTTYPE=image/jpeg:https://eaaa.gr/wp-content/uploads/2022/07/default-image.jpg
END:VEVENT
BEGIN:VEVENT
DTSTART;TZID=Europe/Helsinki:20191218T113000
DTEND;TZID=Europe/Helsinki:20191218T123000
DTSTAMP:20260423T183207
CREATED:20191206T170417Z
LAST-MODIFIED:20191217T174247Z
UID:6602-1576668600-1576672200@eaaa.gr
SUMMARY:Επίσκεψη του Δ.Σ. ΕΑΑΑ στους νοσηλευόμενους του 251ΓΝΑ
DESCRIPTION:Το πρωί της Τετάρτης 18/12/2019 το Δ.Σ. της ΕΑΑΑ θα επισκεφθεί τους νοσηλευόμενους του 251 ΓΝΑ\, θα μοιράσει δώρα Αγάπης και θα ανταλλάξει εορταστικές Ευχές μαζί τους\, καθώς και με το ιατρικό και νοσηλευτικό προσωπικό.
URL:https://eaaa.gr/event/%ce%b5%cf%80%ce%af%cf%83%ce%ba%ce%b5%cf%88%ce%b7-%cf%84%ce%bf%cf%85-%ce%b4-%cf%83-%ce%b5%ce%b1%ce%b1%ce%b1-%cf%83%cf%84%ce%bf%cf%85%cf%82-%ce%bd%ce%bf%cf%83%ce%b7%ce%bb%ce%b5%cf%85%cf%8c%ce%bc%ce%b5/
ATTACH;FMTTYPE=image/jpeg:https://eaaa.gr/wp-content/uploads/2022/07/default-image.jpg
END:VEVENT
BEGIN:VEVENT
DTSTART;TZID=Europe/Helsinki:20200104T190000
DTEND;TZID=Europe/Helsinki:20200104T210000
DTSTAMP:20260423T183207
CREATED:20200101T120345Z
LAST-MODIFIED:20200101T175740Z
UID:6820-1578164400-1578171600@eaaa.gr
SUMMARY:ΠΑΡΑΡΤΗΜΑ ΛΑΡΙΣΑΣ-τελετή Βράβευσης Αριστούχων Μαθητών σχολικού έτους 2018-19
DESCRIPTION:εκδήλωση: τελετή Βράβευσης Αριστούχων Μαθητών σχολικού έτους 2018-19 \nδιοργανωτής: ΠΑΡΑΡΤΗΜΑ ΛΑΡΙΣΑΣ της ΕΑΑΑ \nημερομηνία: Σάββατο\, 4/1/2020 \nώρα: 19:00 \nτόπος: Αίθουσα εκδηλώσεων του Παραρτήματος – Λαπιθών 6 (4ος όροφος)
URL:https://eaaa.gr/event/%cf%80%ce%b1%cf%81%ce%b1%cf%81%cf%84%ce%b7%ce%bc%ce%b1-%ce%bb%ce%b1%cf%81%ce%b9%cf%83%ce%b1%cf%83-%cf%84%ce%b5%ce%bb%ce%b5%cf%84%ce%ae-%ce%b2%cf%81%ce%ac%ce%b2%ce%b5%cf%85%cf%83%ce%b7%cf%82-%ce%b1/
ATTACH;FMTTYPE=image/jpeg:https://eaaa.gr/wp-content/uploads/2022/07/default-image.jpg
END:VEVENT
BEGIN:VEVENT
DTSTART;TZID=Europe/Helsinki:20200112T003000
DTEND;TZID=Europe/Helsinki:20200112T170000
DTSTAMP:20260423T183207
CREATED:20200101T180523Z
LAST-MODIFIED:20200101T232400Z
UID:6821-1578789000-1578848400@eaaa.gr
SUMMARY:ΠΑΡΑΡΤΗΜΑ ΧΑΛΚΙΔΑΣ-Συνεστίαση\, Κοπή Πρωτοχρονιάτικης Πίτας 2020 & απονομή Βραβείων Αριστούχων Μαθητών σχολικού έτους 2018-19
DESCRIPTION:εκδήλωση: Συνεστίαση\, Κοπή Πρωτοχρονιάτικης Πίτας 2020 & απονομή Βραβείων Αριστούχων Μαθητών σχολικού έτους 2018-19 και σπουδαστών ΤΕΙ-ΑΕΙ \nδιοργανωτής: ΠΑΡΑΡΤΗΜΑ ΧΑΛΚΙΔΑΣ της ΕΑΑΑ \nημερομηνία: Κυριακή\, 12/1/2020 \nώρα: 12:30 \nτόπος: ταβέρνα “ΤΣΙΜΠΟΣ”\, Αγία Ελεούσα – Χαλκίδα \nείσοδος: 13€ κατ’ άτομο για τα Μέλη και μέλη οικογενειών αυτών  –  15€ κατ’ άτομο για μή Μέλη 
URL:https://eaaa.gr/event/%cf%80%ce%b1%cf%81%ce%b1%cf%81%cf%84%ce%b7%ce%bc%ce%b1-%cf%87%ce%b1%ce%bb%ce%ba%ce%b9%ce%b4%ce%b1%cf%83-%cf%83%cf%85%ce%bd%ce%b5%cf%83%cf%84%ce%af%ce%b1%cf%83%ce%b7-%ce%ba%ce%bf%cf%80%ce%ae-%cf%80/
ATTACH;FMTTYPE=image/jpeg:https://eaaa.gr/wp-content/uploads/2022/07/default-image.jpg
END:VEVENT
BEGIN:VEVENT
DTSTART;TZID=Europe/Helsinki:20200112T113000
DTEND;TZID=Europe/Helsinki:20200112T143000
DTSTAMP:20260423T183207
CREATED:20191210T201630Z
LAST-MODIFIED:20200101T180818Z
UID:6726-1578828600-1578839400@eaaa.gr
SUMMARY:ΠΑΡΑΡΤΗΜΑ ΘΕΣΣΑΛΟΝΙΚΗΣ-Κοπή Πρωτοχρονιάτικης Πίτας & απονομή Βραβείων Αριστούχων Μαθητών
DESCRIPTION:εκδήλωση: Κοπή Πρωτοχρονιάτικης Πίτας 2020 & απονομή Βραβείων Αριστούχων Μαθητών σχολικού έτους 2018-19\,σπουδαστών ΤΕΙ-ΑΕΙ\, Πτυχιούχων ΤΕΙ-ΑΕΙ \nδιοργανωτής: ΠΑΡΑΡΤΗΜΑ ΘΕΣΣΑΛΟΝΙΚΗΣ της ΕΑΑΑ \nημερομηνία: Κυριακή\, 12/1/2020 \nώρα: 11:30 \nτόπος: Κέντρο Πολιτισμού Περιφέρειας Κεντρική Μακεδονίας “ΑΛΕΞΑΝΔΡΟΣ”\, Εθνικής Αμύνης 1\, (δίπλα στη ΛΑΦΘ)
URL:https://eaaa.gr/event/%cf%80%ce%b1%cf%81%ce%b1%cf%81%cf%84%ce%b7%ce%bc%ce%b1-%ce%b8%ce%b5%cf%83%cf%83%ce%b1%ce%bb%ce%bf%ce%bd%ce%b9%ce%ba%ce%b7%cf%83-%ce%ba%ce%bf%cf%80%ce%ae-%cf%80%cf%81%cf%89%cf%84%ce%bf%cf%87%cf%81/
ATTACH;FMTTYPE=image/jpeg:https://eaaa.gr/wp-content/uploads/2022/07/default-image.jpg
END:VEVENT
BEGIN:VEVENT
DTSTART;TZID=Europe/Helsinki:20200125T090000
DTEND;TZID=Europe/Helsinki:20200125T140000
DTSTAMP:20260423T183207
CREATED:20191207T102812Z
LAST-MODIFIED:20200101T180928Z
UID:6605-1579942800-1579960800@eaaa.gr
SUMMARY:ΣΥΛΛΟΓΟΣ ΑΠΟΦΟΙΤΩΝ ΣΤΥΑ (ΣΑΣ)-Κοπή Πρωτοχρονιάτικης Πίτας & Γ.Σ. 2020
DESCRIPTION:εκδήλωση: Κοπή Πρωτοχρονιάτικης Πίτας και ετήσια Γενική Συνέλευση 2020 \nδιοργανωτής: ΣΥΛΛΟΓΟΣ ΑΠΟΦΟΙΤΩΝ ΣΤΥΑ (ΣΑΣ) \nημερομηνία: Σάββατο\, 25/1/2020 \nώρα: 09:00 \nτόπος: “Αίθουσα Εκδηλώσεων” Πνευματικού Κέντρου ΕΑΑΑ\, Χαλκοκονδύλη 5 (7ος όροφος)
URL:https://eaaa.gr/event/%ce%ba%ce%bf%cf%80%ce%ae-%cf%80%cf%81%cf%89%cf%84%ce%bf%cf%87%cf%81%ce%bf%ce%bd%ce%b9%ce%ac%cf%84%ce%b9%ce%ba%ce%b7%cf%82-%cf%80%ce%af%cf%84%ce%b1%cf%82-%ce%b3-%cf%83-2020-%cf%84%ce%bf%cf%85-%cf%83/
ATTACH;FMTTYPE=image/jpeg:https://eaaa.gr/wp-content/uploads/2022/07/default-image.jpg
END:VEVENT
BEGIN:VEVENT
DTSTART;TZID=Europe/Helsinki:20200126T090000
DTEND;TZID=Europe/Helsinki:20200126T140000
DTSTAMP:20260423T183207
CREATED:20191207T102449Z
LAST-MODIFIED:20200101T180920Z
UID:6604-1580029200-1580047200@eaaa.gr
SUMMARY:ΣΥΛΛΟΓΟΣ ΟΙΚΟΠΕΔΟΥΧΩΝ ΑΕΤΟΥ ΚΑΡΥΣΤΟΥ-Γενική Συνέλευση
DESCRIPTION:εκδήλωση: ετήσια Γενική Συνέλευση 2020 \nδιοργανωτής: ΣΥΛΛΟΓΟΣ ΟΙΚΟΠΕΔΟΥΧΩΝ ΑΕΤΟΥ ΚΑΡΥΣΤΟΥ \nημερομηνία: Κυριακή\, 26/1/2020 \nώρα:  \nτόπος: “Αίθουσα Εκδηλώσεων” Πνευματικού Κέντρου ΕΑΑΑ\, Χαλκοκονδύλη 5 (7ος όροφος) \n. \nδιαβάστε περισσότερα εδώ
URL:https://eaaa.gr/event/%ce%b3-%cf%83-%cf%83%cf%85%ce%bb%ce%bb%ce%bf%ce%b3%ce%bf%cf%85-%ce%bf%ce%b9%ce%ba%ce%bf%cf%80%ce%b5%ce%b4%ce%bf%cf%85%cf%87%cf%89%ce%bd-%ce%b1%ce%b5%cf%84%ce%bf%cf%85-%ce%ba%ce%b1%cf%81%cf%85%cf%83/
ATTACH;FMTTYPE=image/jpeg:https://eaaa.gr/wp-content/uploads/2022/07/default-image.jpg
END:VEVENT
BEGIN:VEVENT
DTSTART;TZID=Europe/Helsinki:20200126T130000
DTEND;TZID=Europe/Helsinki:20200126T160000
DTSTAMP:20260423T183207
CREATED:20191208T090033Z
LAST-MODIFIED:20200101T175707Z
UID:6646-1580043600-1580054400@eaaa.gr
SUMMARY:ΠΑΡΑΡΤΗΜΑ ΧΑΝΙΩΝ-Κοπή Πρωτοχρονιάτικης Πίτας
DESCRIPTION:εκδήλωση: Κοπή Πρωτοχρονιάτικης Πίτας \nδιοργανωτής: ΠΑΡΑΡΤΗΜΑ ΧΑΝΙΩΝ της ΕΑΑΑ \nημερομηνία: Κυριακή\, 26/1/2020 \nώρα: 13:00 \nτόπος: Λέσχη Αξιωματικών της 115ΠΜ
URL:https://eaaa.gr/event/%cf%80%ce%b1%cf%81%ce%b1%cf%81%cf%84%ce%b7%ce%bc%ce%b1-%cf%87%ce%b1%ce%bd%ce%b9%cf%89%ce%bd-%ce%ba%ce%bf%cf%80%ce%ae-%cf%80%cf%81%cf%89%cf%84%ce%bf%cf%87%cf%81%ce%bf%ce%bd%ce%b9%ce%ac%cf%84%ce%b9/
ATTACH;FMTTYPE=image/jpeg:https://eaaa.gr/wp-content/uploads/2022/07/default-image.jpg
END:VEVENT
BEGIN:VEVENT
DTSTART;TZID=Europe/Helsinki:20200129T180000
DTEND;TZID=Europe/Helsinki:20200129T220000
DTSTAMP:20260423T183207
CREATED:20191206T163750Z
LAST-MODIFIED:20191208T091311Z
UID:6599-1580320800-1580335200@eaaa.gr
SUMMARY:ΕΑΑΑ-κοπή Πρωτοχρονιάτικης Πίτας
DESCRIPTION:εκδήλωση: Κοπή Πρωτοχρονιάτικης Πίτας 2020 \nδιοργανωτής: ΕΝΩΣΗ ΑΠΟΣΤΡΑΤΩΝ ΑΞΙΩΜΑΤΙΚΩΝ ΑΕΡΟΠΟΡΙΑΣ \nημερομηνία: Τετάρτη\, 29/1/2020 \nώρα: 18:00 \nτόπος: ΛΑΕΔ
URL:https://eaaa.gr/event/6599/
ATTACH;FMTTYPE=image/jpeg:https://eaaa.gr/wp-content/uploads/2022/07/default-image.jpg
END:VEVENT
BEGIN:VEVENT
DTSTART;VALUE=DATE:20200131
DTEND;VALUE=DATE:20200201
DTSTAMP:20260423T183207
CREATED:20191208T091155Z
LAST-MODIFIED:20200101T180911Z
UID:6647-1580428800-1580515199@eaaa.gr
SUMMARY:ΠΑΡΑΡΤΗΜΑ ΜΕΣΣΗΝΙΑΣ-Κοπή Πρωτοχρονιάτικης Πίτας
DESCRIPTION:εκδήλωση: Κοπή πρωτοχρονιάτικης πίτας \nδιοργανωτής: ΠΑΡΑΡΤΗΜΑ ΜΕΣΣΗΝΙΑΣ της ΕΑΑΑ \nημερομηνία: Παρασκευή\, 31/1/2020 \nώρα: μή καθορισμένο ακόμη \nτόπος: μή καθορισμένο ακόμη
URL:https://eaaa.gr/event/%cf%80%ce%b1%cf%81%ce%b1%cf%81%cf%84%ce%b7%ce%bc%ce%b1-%ce%bc%ce%b5%cf%83%cf%83%ce%b7%ce%bd%ce%b9%ce%b1%cf%83-%ce%ba%ce%bf%cf%80%ce%ae-%cf%80%cf%81%cf%89%cf%84%ce%bf%cf%87%cf%81%ce%bf%ce%bd%ce%b9/
ATTACH;FMTTYPE=image/jpeg:https://eaaa.gr/wp-content/uploads/2022/07/default-image.jpg
END:VEVENT
BEGIN:VEVENT
DTSTART;VALUE=DATE:20200201
DTEND;VALUE=DATE:20200202
DTSTAMP:20260423T183207
CREATED:20200101T233146Z
LAST-MODIFIED:20200102T084355Z
UID:6825-1580515200-1580601599@eaaa.gr
SUMMARY:ΠΑΡΑΡΤΗΜΑ ΛΑΡΙΣΑΣ-Κοπή Πρωτοχρονιάτικης Πίτας 2020
DESCRIPTION:εκδήλωση: Κοπή Πρωτοχρονιάτικης Πίτας 2020 \nδιοργανωτής: ΠΑΡΑΡΤΗΜΑ ΛΑΡΙΣΑΣ της ΕΑΑΑ \nημερομηνία: Σάββατο\, 1/2/2020 \nώρα:  \nτόπος: Κτήμα”ΕΛΕΝΑ”\, 7o χιλ. Λάρισας – Αμπελώνα \nείσοδος: 15€ κατ’ άτομο για τα Μέλη και μέλη οικογενειών και φίλους (μή μέλη) αυτών 
URL:https://eaaa.gr/event/%cf%80%ce%b1%cf%81%ce%b1%cf%81%cf%84%ce%b7%ce%bc%ce%b1-%ce%bb%ce%b1%cf%81%ce%b9%cf%83%ce%b1%cf%83-%ce%ba%ce%bf%cf%80%ce%ae-%cf%80%cf%81%cf%89%cf%84%ce%bf%cf%87%cf%81%ce%bf%ce%bd%ce%b9%ce%ac%cf%84/
ATTACH;FMTTYPE=image/jpeg:https://eaaa.gr/wp-content/uploads/2022/07/default-image.jpg
END:VEVENT
BEGIN:VEVENT
DTSTART;TZID=Europe/Helsinki:20200202T113000
DTEND;TZID=Europe/Helsinki:20200202T130000
DTSTAMP:20260423T183207
CREATED:20200126T191001Z
LAST-MODIFIED:20200126T191001Z
UID:6971-1580643000-1580648400@eaaa.gr
SUMMARY:ΠΑΣΥΒΕΤΑ-Κοπή Πρωτοχρονιάτικης Πίτας
DESCRIPTION:εκδήλωση: Κοπή πρωτοχρονιάτικης πίτας \nδιοργανωτής: ΠΑΣΥΒΕΤΑ \nημερομηνία: Κυριακή\, 2/2/2020 \nώρα: 11:30 \nτόπος: Αίθουσα ΑΕΡΟΔΙΚΕΙΟΥ ΑΘΗΝΩΝ (Σούτσου 40\, 115 21-Αθήνα)
URL:https://eaaa.gr/event/%cf%80%ce%b1%cf%83%cf%85%ce%b2%ce%b5%cf%84%ce%b1-%ce%ba%ce%bf%cf%80%ce%ae-%cf%80%cf%81%cf%89%cf%84%ce%bf%cf%87%cf%81%ce%bf%ce%bd%ce%b9%ce%ac%cf%84%ce%b9%ce%ba%ce%b7%cf%82-%cf%80%ce%af%cf%84%ce%b1/
ATTACH;FMTTYPE=image/jpeg:https://eaaa.gr/wp-content/uploads/2022/07/default-image.jpg
END:VEVENT
BEGIN:VEVENT
DTSTART;TZID=Europe/Helsinki:20200208T203000
DTEND;TZID=Europe/Helsinki:20200208T203000
DTSTAMP:20260423T183207
CREATED:20200109T200456Z
LAST-MODIFIED:20200126T184546Z
UID:6869-1581193800-1581193800@eaaa.gr
SUMMARY:ΠΑΡΑΡΤΗΜΑ ΜΑΓΝΗΣΙΑΣ-Κοπή Πρωτοχρονιάτικης Πίτας
DESCRIPTION:                       \nεκδήλωση: Κοπή πρωτοχρονιάτικης πίτας \nδιοργανωτής: ΠΑΡΑΡΤΗΜΑ ΜΑΓΝΗΣΙΑΣ της ΕΑΑΑ \nημερομηνία: Σάββατο\, 8/2/2020 \nώρα: 20:30 \nτόπος: “Valis Resort Hotel”\, Αγριά Βόλου
URL:https://eaaa.gr/event/%cf%80%ce%b1%cf%81%ce%b1%cf%81%cf%84%ce%b7%ce%bc%ce%b1-%ce%bc%ce%b1%ce%b3%ce%bd%ce%b7%cf%83%ce%b9%ce%b1%cf%83-%ce%ba%ce%bf%cf%80%ce%ae-%cf%80%cf%81%cf%89%cf%84%ce%bf%cf%87%cf%81%ce%bf%ce%bd%ce%b9/
ATTACH;FMTTYPE=image/jpeg:https://eaaa.gr/wp-content/uploads/2013/03/-ΜΑΓΝΗΣΙΑΣ_31-3-2019_Ντούβλης-e1564342630728.jpg
END:VEVENT
BEGIN:VEVENT
DTSTART;TZID=Europe/Helsinki:20200209T000000
DTEND;TZID=Europe/Helsinki:20200209T140000
DTSTAMP:20260423T183207
CREATED:20200126T213547Z
LAST-MODIFIED:20200126T213547Z
UID:6989-1581206400-1581256800@eaaa.gr
SUMMARY:ΠΑΡΑΡΤΗΜΑ ΘΕΣΣΑΛΟΝΙΚΗΣ-Κοπή Πρωτοχρονιάτικης Πίτας τομέα δυτικής Μακεδονίας
DESCRIPTION:εκδήλωση: Κοπή πρωτοχρονιάτικης πίτας τομέα δυτικής Μακεδονίας \nδιοργανωτής: ΠΑΡΑΡΤΗΜΑ ΘΕΣΣΑΛΟΝΙΚΗΣ της ΕΑΑΑ \nημερομηνία: Κυριακή\, 9/2/2020 \nώρα: 12:00 \nτόπος: Λέσχη Αξιωματικών Καστοριάς (Ζωγράφου 24\, 521 00-Καστοριά)
URL:https://eaaa.gr/event/%cf%80%ce%b1%cf%81%ce%b1%cf%81%cf%84%ce%b7%ce%bc%ce%b1-%ce%b8%ce%b5%cf%83%cf%83%ce%b1%ce%bb%ce%bf%ce%bd%ce%b9%ce%ba%ce%b7%cf%83-%ce%ba%ce%bf%cf%80%ce%ae-%cf%80%cf%81%cf%89%cf%84%ce%bf%cf%87%cf%81-2/
ATTACH;FMTTYPE=image/jpeg:https://eaaa.gr/wp-content/uploads/2022/07/default-image.jpg
END:VEVENT
BEGIN:VEVENT
DTSTART;TZID=Europe/Helsinki:20200219T180000
DTEND;TZID=Europe/Helsinki:20200219T200000
DTSTAMP:20260423T183207
CREATED:20191207T104350Z
LAST-MODIFIED:20200126T190345Z
UID:6606-1582135200-1582142400@eaaa.gr
SUMMARY:ΣΥΛΛΟΓΟΣ ΑΠΟΦΟΙΤΩΝ ΣΧΟΛΗΣ ΥΠΑΞΙΩΜΑΤΙΚΩΝ ΔΙΟΙΚΗΤΙΚΩΝ ΑΕΡΟΠΟΡΙΑΣ (ΣΑΣΥΔΑ)-Κοπή Πρωτοχρονιάτικης Πίτας & Γ.Σ. 2020
DESCRIPTION:εκδήλωση: Κοπή Πρωτοχρονιάτικης Πίτας και ετήσια Γενική Συνέλευση 2020 \nδιοργανωτής: ΣΥΛΛΟΓΟΣ ΑΠΟΦΟΙΤΩΝ ΣΧΟΛΗΣ ΥΠΑΞΙΩΜΑΤΙΚΩΝ ΔΙΟΙΚΗΤΙΚΩΝ ΑΕΡΟΠΟΡΙΑΣ (ΣΑΣΥΔΑ) \nημερομηνία: Τετάρτη\, 19/2/2020 \nώρα: 18:00 \nτόπος: “Αίθουσα Εκδηλώσεων” Πνευματικού Κέντρου ΕΑΑΑ\, Χαλκοκονδύλη 5 (7ος όροφος)
URL:https://eaaa.gr/event/%ce%ba%ce%bf%cf%80%ce%ae-%cf%80%cf%81%cf%89%cf%84%ce%bf%cf%87%cf%81%ce%bf%ce%bd%ce%b9%ce%ac%cf%84%ce%b9%ce%ba%ce%b7%cf%82-%cf%80%ce%af%cf%84%ce%b1%cf%82-%ce%b3-%cf%83-2020-%cf%84%ce%bf%cf%85-%cf%83-2/
ATTACH;FMTTYPE=image/jpeg:https://eaaa.gr/wp-content/uploads/2022/07/default-image.jpg
END:VEVENT
BEGIN:VEVENT
DTSTART;TZID=Europe/Helsinki:20200305T073000
DTEND;TZID=Europe/Helsinki:20200306T153000
DTSTAMP:20260423T183207
CREATED:20200126T201906Z
LAST-MODIFIED:20200126T201906Z
UID:6980-1583393400-1583508600@eaaa.gr
SUMMARY:29ο Πολυθεματικό Ιατρικό Συμπόσιο στο 251ΓΝΑ
DESCRIPTION:εκδήλωση: 29ο Πολυθεματικό Ιατρικό Συμπόσιο “Ασκληπιός VS Άρης” \nδιοργανωτής: 251 ΓΕΝΙΚΟ ΝΟΣΟΚΟΜΕΙΟ ΑΕΡΟΠΟΡΙΑΣ \nημερομηνία: Πέμπτη 5 – Παρασκευή 6/3/2020 \nώρα: Πέμπτη 07:30-14:30\, Παρασκευή 07:30-15:30 \nτόπος: Αμφιθέατρο 251 ΓΝΑ \nπληροφορίες: Το Συμπόσιο τελεί υπό την αιγίδα του μεταπτυχιακού «Παγκόσμια Ιατρική-Ιατρική των Καταστροφών» της Ιατρικής Σχολής του Εθνικού Καποδιστριακού Πανεπιστημίου Αθηνών και αναπτύσσεται σε δυο παράλληλους άξονες. Ο πρώτος είναι θεωρητικός και περιλαμβάνει θέματα που αφορούν στον τρόπο δράσης του Υγειονομικού σε επιχειρησιακό περιβάλλον στον πόλεμο και στην ειρήνη\, καθώς και θέματα Αεροπορικής Ιατρικής . Ο δεύτερος είναι πρακτικός με εργαστήρια εξάσκησης (workshops) σε ιατρικές πράξεις και επίδειξης οργάνων και συσκευών. \nΟμιλητές\, συντονιστές και εκπαιδευτές θα είναι στελέχη των Ενόπλων Δυνάμεων και των Σωμάτων Ασφαλείας\, καθώς και διακεκριμένοι επιστήμονες και επαγγελματίες Υγείας. \nΠερισσότερες πληροφορίες για το Συμπόσιο μπορείτε να βρείτε εδώ \nΕπιθυμία συμμετοχής μπορείτε να υποβάλετε στην ηλεκτρονική φόρμα εγγραφής
URL:https://eaaa.gr/event/29%ce%bf-%cf%80%ce%bf%ce%bb%cf%85%ce%b8%ce%b5%ce%bc%ce%b1%cf%84%ce%b9%ce%ba%cf%8c-%ce%b9%ce%b1%cf%84%cf%81%ce%b9%ce%ba%cf%8c-%cf%83%cf%85%ce%bc%cf%80%cf%8c%cf%83%ce%b9%ce%bf-%cf%83%cf%84%ce%bf-251/
ATTACH;FMTTYPE=image/jpeg:https://eaaa.gr/wp-content/uploads/2022/07/default-image.jpg
END:VEVENT
BEGIN:VEVENT
DTSTART;TZID=Europe/Helsinki:20200620T093000
DTEND;TZID=Europe/Helsinki:20200620T130000
DTSTAMP:20260423T183207
CREATED:20200405T075029Z
LAST-MODIFIED:20200405T075434Z
UID:7533-1592645400-1592658000@eaaa.gr
SUMMARY:ΣΑΣΙ-Γ.Σ. & Αρχαιρεσίες
DESCRIPTION:  \n  \n  \n  \n  \n  \nεκδήλωση: Γενική Συνέλευση  και Αρχαιρεσίες \nδιοργανωτής: ΣΥΛΛΟΓΟΣ ΑΠΟΦΟΙΤΩΝ ΣΧΟΛΗΣ ΙΚΑΡΩΝ “Ο ΙΚΑΡΟΣ” \nημερομηνία: Σάββατο\, 20/6/2020 \nώρα: 09:30 – 13:00 \nτόπος: Α/Β Δεκέλειας \nλεπτομέρειες εδώ
URL:https://eaaa.gr/event/%cf%83%ce%b1%cf%83%ce%b9-%ce%b3-%cf%83-%ce%b1%cf%81%cf%87%ce%b1%ce%b9%cf%81%ce%b5%cf%83%ce%af%ce%b5%cf%82/
ATTACH;FMTTYPE=image/jpeg:https://eaaa.gr/wp-content/uploads/2022/07/default-image.jpg
END:VEVENT
BEGIN:VEVENT
DTSTART;TZID=Europe/Helsinki:20221019T180000
DTEND;TZID=Europe/Helsinki:20221019T200000
DTSTAMP:20260423T183207
CREATED:20221014T160915Z
LAST-MODIFIED:20221014T160915Z
UID:14600-1666202400-1666209600@eaaa.gr
SUMMARY:ΕΑΑΑ/Παρ. Θεσσαλονίκης _ Διάλεξη
DESCRIPTION:
URL:https://eaaa.gr/event/%ce%b5%ce%b1%ce%b1%ce%b1-%cf%80%ce%b1%cf%81-%ce%b8%ce%b5%cf%83%cf%83%ce%b1%ce%bb%ce%bf%ce%bd%ce%af%ce%ba%ce%b7%cf%82-_-%ce%b4%ce%b9%ce%ac%ce%bb%ce%b5%ce%be%ce%b7/
ATTACH;FMTTYPE=image/jpeg:https://eaaa.gr/wp-content/uploads/2022/10/καρακωστ-2-1.jpg
END:VEVENT
BEGIN:VEVENT
DTSTART;TZID=Europe/Helsinki:20221023T093000
DTEND;TZID=Europe/Helsinki:20221023T133000
DTSTAMP:20260423T183207
CREATED:20221014T160256Z
LAST-MODIFIED:20221014T160512Z
UID:14591-1666517400-1666531800@eaaa.gr
SUMMARY:ΕΑΑΑ/Παρ. Θεσσαλονίκης-Ετήσια Επιμνημόσυνη Δέηση
DESCRIPTION:
URL:https://eaaa.gr/event/%ce%b5%ce%b1%ce%b1%ce%b1-%cf%80%ce%b1%cf%81-%ce%b8%ce%b5%cf%83%cf%83%ce%b1%ce%bb%ce%bf%ce%bd%ce%af%ce%ba%ce%b7%cf%82-%ce%b5%cf%84%ce%ae%cf%83%ce%b9%ce%b1-%ce%b5%cf%80%ce%b9%ce%bc%ce%bd%ce%b7%ce%bc/
ATTACH;FMTTYPE=image/jpeg:https://eaaa.gr/wp-content/uploads/2022/10/nikosproskl-4.jpg
END:VEVENT
BEGIN:VEVENT
DTSTART;TZID=Europe/Helsinki:20221023T100000
DTEND;TZID=Europe/Helsinki:20221023T140000
DTSTAMP:20260423T183207
CREATED:20221007T123312Z
LAST-MODIFIED:20221007T123506Z
UID:14428-1666519200-1666533600@eaaa.gr
SUMMARY:Ο.Σ.ΜΟ.Σ.Α – Ενημερωτική Ημερίδα
DESCRIPTION:
URL:https://eaaa.gr/event/14428/
LOCATION:ΠΟΛΕΜΙΚΟ ΜΟΥΣΕΙΟ\, Βασ. Σοφίας & Ριζάρη 2\, Αθήνα\, 106 75\, Ελλάδα
ATTACH;FMTTYPE=image/png:https://eaaa.gr/wp-content/uploads/2022/10/Ανακοίνωση.png
END:VEVENT
END:VCALENDAR